BEGIN:VCALENDAR
VERSION:2.0
PRODID:-//ZContent.net//ZapCalLib 1.0//EN
CALSCALE:GREGORIAN
METHOD:PUBLISH
BEGIN:VEVENT
SUMMARY:Ein Neuer Republikanismus: Wer trägt Demokratie,  Modernisierung u
 nd Europa? | Herbsttagung der Grünen Akademie
DTSTART:20250926T140000
DTEND:20250926T193000
UID:2026-04-25-12-29-00-0-@calendar.boell.de
DTSTAMP:20260425T102900
DESCRIPTION:▶ Heinrich-Böll-Stiftung\, Bundesstiftung Berlin sowie Onlin
 e – Heinrich-Böll-Stiftung - Bundesstiftung Berlin
END:VEVENT
END:VCALENDAR
