BEGIN:VCALENDAR
VERSION:2.0
PRODID:-//ZContent.net//ZapCalLib 1.0//EN
CALSCALE:GREGORIAN
METHOD:PUBLISH
BEGIN:VEVENT
SUMMARY:Der Sinn von Politik ist Freiheit | Winfried Kretschmann über Hann
 ah Arendt, sein Leben und politisches Denken
DTSTART:20250926T193000
DTEND:20250926T210000
UID:2026-04-25-01-01-33-0-@calendar.boell.de
DTSTAMP:20260424T230133
DESCRIPTION:Stuttgart – Heinrich Böll Stiftung Baden-Württemberg
END:VEVENT
END:VCALENDAR
