BEGIN:VCALENDAR
VERSION:2.0
PRODID:-//ZContent.net//ZapCalLib 1.0//EN
CALSCALE:GREGORIAN
METHOD:PUBLISH
BEGIN:VEVENT
SUMMARY:Die Möllner Briefe | Deutschland-Premiere mit anschließendem Gesp
 räch
DTSTART:20250915T193000
DTEND:20250915T213000
UID:2026-04-24-08-46-15-0-@calendar.boell.de
DTSTAMP:20260424T064615
DESCRIPTION:▶ Siehe Veranstaltungsbeschreibung – Hamburg – Landesstif
 tung Hamburg
END:VEVENT
END:VCALENDAR
