BEGIN:VCALENDAR
VERSION:2.0
PRODID:-//ZContent.net//ZapCalLib 1.0//EN
CALSCALE:GREGORIAN
METHOD:PUBLISH
BEGIN:VEVENT
SUMMARY:Sozial & Gerecht | Perspektiven verstehen. Strukturen verändern. E
 in Seminar mit klassistischer Perspektive
DTSTART:20251010T090000
DTEND:20251011T180000
UID:2026-04-25-13-27-42-0-@calendar.boell.de
DTSTAMP:20260425T112742
DESCRIPTION:▶ Siehe Veranstaltungsbeschreibung – Landesstiftung Nordrhe
 in-Westfalen
END:VEVENT
END:VCALENDAR
