BEGIN:VCALENDAR
VERSION:2.0
PRODID:-//ZContent.net//ZapCalLib 1.0//EN
CALSCALE:GREGORIAN
METHOD:PUBLISH
BEGIN:VEVENT
SUMMARY:Kick-off Präsentation der neuen KI-Handlungsanweisung | Siehe: htt
 ps://lernen.boell.de/goto.php/crs/1436
DTSTART:20250721T110000
DTEND:20250721T120000
UID:2026-04-25-23-40-10-0-@calendar.boell.de
DTSTAMP:20260425T214010
DESCRIPTION:▶ Siehe Veranstaltungsbeschreibung – 
END:VEVENT
END:VCALENDAR
