BEGIN:VCALENDAR
VERSION:2.0
PRODID:-//ZContent.net//ZapCalLib 1.0//EN
CALSCALE:GREGORIAN
METHOD:PUBLISH
BEGIN:VEVENT
SUMMARY:Lesung & Gespräch „Wir sind anders! Wie die DDR Frauen bis heute
  prägt"  mit Annette Schuhmann 
DTSTART:20250924T190000
DTEND:20250924T203000
UID:2026-04-24-21-13-03-0-@calendar.boell.de
DTSTAMP:20260424T191303
DESCRIPTION:▶ Siehe Veranstaltungsbeschreibung – Rostock – Landesstif
 tung Mecklenburg-Vorpommern
END:VEVENT
END:VCALENDAR
