BEGIN:VCALENDAR
VERSION:2.0
PRODID:-//ZContent.net//ZapCalLib 1.0//EN
CALSCALE:GREGORIAN
METHOD:PUBLISH
BEGIN:VEVENT
SUMMARY:Freiheit schützen | Konferenz zur inneren Sicherheit
DTSTART:20251121T140000
DTEND:20251121T200000
UID:2026-04-24-23-52-19-0-@calendar.boell.de
DTSTAMP:20260424T215219
DESCRIPTION:Heinrich-Böll-Stiftung - Bundesstiftung Berlin – Berlin – 
 Heinrich-Böll-Stiftung - Bundesstiftung Berlin
END:VEVENT
END:VCALENDAR
