BEGIN:VCALENDAR
VERSION:2.0
PRODID:-//ZContent.net//ZapCalLib 1.0//EN
CALSCALE:GREGORIAN
METHOD:PUBLISH
BEGIN:VEVENT
SUMMARY:1×1 der Intersektionalität
DTSTART:20250909T100000
DTEND:20250909T170000
UID:2026-04-25-12-35-37-0-@calendar.boell.de
DTSTAMP:20260425T103537
DESCRIPTION:▶ Online-Veranstaltung – Heinrich Böll Stiftung Baden-Wür
 ttemberg
END:VEVENT
END:VCALENDAR
