BEGIN:VCALENDAR
VERSION:2.0
PRODID:-//ZContent.net//ZapCalLib 1.0//EN
CALSCALE:GREGORIAN
METHOD:PUBLISH
BEGIN:VEVENT
SUMMARY:„Die verlorene Ehre der Katharina Blum“ | Lesung mit dem Grüne
 n Salon Bielefeld
DTSTART:20250704T193000
DTEND:20250704T210000
UID:2026-04-23-17-56-55-0-@calendar.boell.de
DTSTAMP:20260423T155655
DESCRIPTION:▶ Siehe Veranstaltungsbeschreibung – Bielefeld – Landesst
 iftung Nordrhein-Westfalen
END:VEVENT
END:VCALENDAR
