BEGIN:VCALENDAR
VERSION:2.0
PRODID:-//ZContent.net//ZapCalLib 1.0//EN
CALSCALE:GREGORIAN
METHOD:PUBLISH
BEGIN:VEVENT
SUMMARY:Future Warm-Up: „Klimagerechte Zukunft?!“ | Workshops für posi
 tive Zukunftsszenarien 
DTSTART:20250621T120000
DTEND:20250621T130000
UID:2026-04-24-13-58-09-0-@calendar.boell.de
DTSTAMP:20260424T115809
DESCRIPTION:Bremen – Landesstiftung Bremen
END:VEVENT
END:VCALENDAR
