BEGIN:VCALENDAR
VERSION:2.0
PRODID:-//ZContent.net//ZapCalLib 1.0//EN
CALSCALE:GREGORIAN
METHOD:PUBLISH
BEGIN:VEVENT
SUMMARY:Sicherung der Trinkwasserqualität in Zeiten des Klimawandels | mit
  Prof. Dr. Klaus Kümmerer (Professor für Nachhaltige Chemie und Stofflic
 he Ressourcen)
DTSTART:20250611T170000
DTEND:20250611T190000
UID:2026-04-26-04-41-07-0-@calendar.boell.de
DTSTAMP:20260426T024107
DESCRIPTION:Lüneburg – Stiftung Leben & Umwelt / Heinrich-Böll-Stiftung
  Niedersachsen
END:VEVENT
END:VCALENDAR
