BEGIN:VCALENDAR
VERSION:2.0
PRODID:-//ZContent.net//ZapCalLib 1.0//EN
CALSCALE:GREGORIAN
METHOD:PUBLISH
BEGIN:VEVENT
SUMMARY:Alles im Fluss!? Wasser in der Krise | in Lüneburg
DTSTART:20250606T100000
DTEND:20250630T160000
UID:2026-04-25-23-39-38-0-@calendar.boell.de
DTSTAMP:20260425T213938
DESCRIPTION:Lüneburg – Stiftung Leben & Umwelt / Heinrich-Böll-Stiftung
  Niedersachsen
END:VEVENT
END:VCALENDAR
