BEGIN:VCALENDAR
VERSION:2.0
PRODID:-//ZContent.net//ZapCalLib 1.0//EN
CALSCALE:GREGORIAN
METHOD:PUBLISH
BEGIN:VEVENT
SUMMARY:Schreibtreff Literally Peace
DTSTART:20250528T180000
DTEND:20250528T200000
UID:2026-04-24-18-08-51-0-@calendar.boell.de
DTSTAMP:20260424T160851
DESCRIPTION:▶ Siehe Veranstaltungsbeschreibung – Stuttgart – Heinrich
  Böll Stiftung Baden-Württemberg
END:VEVENT
END:VCALENDAR
