BEGIN:VCALENDAR
VERSION:2.0
PRODID:-//ZContent.net//ZapCalLib 1.0//EN
CALSCALE:GREGORIAN
METHOD:PUBLISH
BEGIN:VEVENT
SUMMARY:Politik ohne Kompromiss? Zusammenarbeit vs. Konkurrenz? (Passau) | 
 Deutschland nach der Wahl – Perspektiven eines Neuanfangs
DTSTART:20250613T180000
DTEND:20250613T180000
UID:2026-04-26-04-41-03-0-@calendar.boell.de
DTSTAMP:20260426T024103
DESCRIPTION:▶ Siehe Veranstaltungsbeschreibung – Passau – Petra-Kelly
 -Stiftung
END:VEVENT
END:VCALENDAR
