BEGIN:VCALENDAR
VERSION:2.0
PRODID:-//ZContent.net//ZapCalLib 1.0//EN
CALSCALE:GREGORIAN
METHOD:PUBLISH
BEGIN:VEVENT
SUMMARY:Wort für Wort  | Stimmen aus der Schreibwerkstatt
DTSTART:20250619T200000
DTEND:20250619T213000
UID:2026-04-25-01-04-17-0-@calendar.boell.de
DTSTAMP:20260424T230417
DESCRIPTION:Stuttgart – Heinrich Böll Stiftung Baden-Württemberg
END:VEVENT
END:VCALENDAR
