BEGIN:VCALENDAR
VERSION:2.0
PRODID:-//ZContent.net//ZapCalLib 1.0//EN
CALSCALE:GREGORIAN
METHOD:PUBLISH
BEGIN:VEVENT
SUMMARY:Sicher sind wir nicht geblieben | Jüdisch sein in Deutschland
DTSTART:20251021T190000
DTEND:20251021T203000
UID:2026-04-25-12-28-50-0-@calendar.boell.de
DTSTAMP:20260425T102850
DESCRIPTION:Stuttgart – Heinrich Böll Stiftung Baden-Württemberg
END:VEVENT
END:VCALENDAR
