BEGIN:VCALENDAR
VERSION:2.0
PRODID:-//ZContent.net//ZapCalLib 1.0//EN
CALSCALE:GREGORIAN
METHOD:PUBLISH
BEGIN:VEVENT
SUMMARY:Sven Pfizenmaier - Draußen feiern die Leute | LesBar in der Stadtp
 farrkirche Müncheberg
DTSTART:20251009T180000
DTEND:20251009T193000
UID:2026-04-25-03-30-34-0-@calendar.boell.de
DTSTAMP:20260425T013034
DESCRIPTION:▶ Siehe Veranstaltungsbeschreibung – Müncheberg – Landes
 stiftung Brandenburg
END:VEVENT
END:VCALENDAR
