BEGIN:VCALENDAR
VERSION:2.0
PRODID:-//ZContent.net//ZapCalLib 1.0//EN
CALSCALE:GREGORIAN
METHOD:PUBLISH
BEGIN:VEVENT
SUMMARY:Grenzenlose Aufrüstung - wieviel Militär brauchen wir für Sicher
 heit, Freiheit und Menschenrechte? |  Vortrag von Jürgen Wagner
DTSTART:20250521T190000
DTEND:20250521T210000
UID:2026-04-25-03-29-37-0-@calendar.boell.de
DTSTAMP:20260425T012937
DESCRIPTION:Jena – Landesstiftung Thüringen
END:VEVENT
END:VCALENDAR
