BEGIN:VCALENDAR
VERSION:2.0
PRODID:-//ZContent.net//ZapCalLib 1.0//EN
CALSCALE:GREGORIAN
METHOD:PUBLISH
BEGIN:VEVENT
SUMMARY:Regionalreise der Freundinnen und Freunde nach Hessen
DTSTART:20250911T170000
DTEND:20250914T150000
UID:2026-04-24-02-48-31-0-@calendar.boell.de
DTSTAMP:20260424T004831
DESCRIPTION:▶ Siehe Veranstaltungsbeschreibung – Frankfurt (Main) – H
 einrich-Böll-Stiftung - Bundesstiftung Berlin
END:VEVENT
END:VCALENDAR
