BEGIN:VCALENDAR
VERSION:2.0
PRODID:-//ZContent.net//ZapCalLib 1.0//EN
CALSCALE:GREGORIAN
METHOD:PUBLISH
BEGIN:VEVENT
SUMMARY:RomaRespekt zu Gast bei: ZACK 2025 – Wie funktioniert solidarisch
 es Handeln (in Krisenzeiten) | Minifestival
DTSTART:20250524T150000
DTEND:20250524T220000
UID:2026-04-25-16-19-55-0-@calendar.boell.de
DTSTAMP:20260425T141955
DESCRIPTION:▶ Siehe Veranstaltungsbeschreibung – Dresden – Landesstif
 tung Sachsen (Weiterdenken)
END:VEVENT
END:VCALENDAR
