BEGIN:VCALENDAR
VERSION:2.0
PRODID:-//ZContent.net//ZapCalLib 1.0//EN
CALSCALE:GREGORIAN
METHOD:PUBLISH
BEGIN:VEVENT
SUMMARY:Schweigen ist nicht neutral | Online-Weiterbildung für Vereinsakti
 ve
DTSTART:20250507T180000
DTEND:20250507T200000
UID:2026-04-24-13-57-59-0-@calendar.boell.de
DTSTAMP:20260424T115759
DESCRIPTION:Landesstiftung Rheinland-Pfalz
END:VEVENT
END:VCALENDAR
