BEGIN:VCALENDAR
VERSION:2.0
PRODID:-//ZContent.net//ZapCalLib 1.0//EN
CALSCALE:GREGORIAN
METHOD:PUBLISH
BEGIN:VEVENT
SUMMARY:München liest - aus verbrannten Büchern
DTSTART:20250510T100000
DTEND:20250510T180000
UID:2026-04-24-22-37-05-0-@calendar.boell.de
DTSTAMP:20260424T203705
DESCRIPTION:München – Petra-Kelly-Stiftung
END:VEVENT
END:VCALENDAR
