BEGIN:VCALENDAR
VERSION:2.0
PRODID:-//ZContent.net//ZapCalLib 1.0//EN
CALSCALE:GREGORIAN
METHOD:PUBLISH
BEGIN:VEVENT
SUMMARY:Zukunft beginnt vor Ort | So werden Kommunen lebenswert und klimane
 utral
DTSTART:20250704T150000
DTEND:20250704T161500
UID:2026-04-25-04-59-59-0-@calendar.boell.de
DTSTAMP:20260425T025959
DESCRIPTION:Heinrich-Böll-Stiftung - Bundesstiftung Berlin
END:VEVENT
END:VCALENDAR
