BEGIN:VCALENDAR
VERSION:2.0
PRODID:-//ZContent.net//ZapCalLib 1.0//EN
CALSCALE:GREGORIAN
METHOD:PUBLISH
BEGIN:VEVENT
SUMMARY:Weltwitz redet MITeinander | Zweiter Gesprächsnachmittag bei Kaffe
 e und Kuchen
DTSTART:20250424T160000
DTEND:20250424T180000
UID:2026-04-24-06-41-03-0-@calendar.boell.de
DTSTAMP:20260424T044103
DESCRIPTION:Landesstiftung Thüringen
END:VEVENT
END:VCALENDAR
