BEGIN:VCALENDAR
VERSION:2.0
PRODID:-//ZContent.net//ZapCalLib 1.0//EN
CALSCALE:GREGORIAN
METHOD:PUBLISH
BEGIN:VEVENT
SUMMARY:Frauenpoli-Tisch: Neue Weltordnung | das Frauentischgespräch der s
 ozialpolitischen Reihe des Frauenzentrum Laatzen
DTSTART:20250514T183000
DTEND:20250514T200000
UID:2026-04-24-17-48-27-0-@calendar.boell.de
DTSTAMP:20260424T154827
DESCRIPTION:Laatzen – Stiftung Leben & Umwelt / Heinrich-Böll-Stiftung N
 iedersachsen
END:VEVENT
END:VCALENDAR
