BEGIN:VCALENDAR
VERSION:2.0
PRODID:-//ZContent.net//ZapCalLib 1.0//EN
CALSCALE:GREGORIAN
METHOD:PUBLISH
BEGIN:VEVENT
SUMMARY:Witches, Bitches, It-Girls | Lesung mit Rebekka Endler
DTSTART:20250522T183000
DTEND:20250522T200000
UID:2026-04-25-00-59-43-0-@calendar.boell.de
DTSTAMP:20260424T225943
DESCRIPTION:München – Petra-Kelly-Stiftung
END:VEVENT
END:VCALENDAR
