BEGIN:VCALENDAR
VERSION:2.0
PRODID:-//ZContent.net//ZapCalLib 1.0//EN
CALSCALE:GREGORIAN
METHOD:PUBLISH
BEGIN:VEVENT
SUMMARY:Erfolgreich gegen trockenen Acker: Agroforst in der Prignitz | Ein 
 Praxisbeispiel auf dem Landwirtschaftsbetrieb Düpow
DTSTART:20250612T140000
DTEND:20250612T170000
UID:2026-04-24-12-27-33-0-@calendar.boell.de
DTSTAMP:20260424T102733
DESCRIPTION:▶ Siehe Veranstaltungsbeschreibung – Perleberg – Landesst
 iftung Brandenburg
END:VEVENT
END:VCALENDAR
