BEGIN:VCALENDAR
VERSION:2.0
PRODID:-//ZContent.net//ZapCalLib 1.0//EN
CALSCALE:GREGORIAN
METHOD:PUBLISH
BEGIN:VEVENT
SUMMARY:AUSGEBUCHT - Durch Auftritte und Reden wirken  | Rhetorik Grundkurs
DTSTART:20250719T100000
DTEND:20250719T170000
UID:2026-04-25-01-36-18-0-@calendar.boell.de
DTSTAMP:20260424T233618
DESCRIPTION:Bayreuth – Petra-Kelly-Stiftung
END:VEVENT
END:VCALENDAR
