BEGIN:VCALENDAR
VERSION:2.0
PRODID:-//ZContent.net//ZapCalLib 1.0//EN
CALSCALE:GREGORIAN
METHOD:PUBLISH
BEGIN:VEVENT
SUMMARY:Demokratie braucht Feminismus! - Antifeminismus entgegentreten | au
 s der Reihe Fit for Politics
DTSTART:20251114T153000
DTEND:20251115T170000
UID:2026-04-24-13-56-58-0-@calendar.boell.de
DTSTAMP:20260424T115658
DESCRIPTION:Hannover – Stiftung Leben & Umwelt / Heinrich-Böll-Stiftung 
 Niedersachsen
END:VEVENT
END:VCALENDAR
