BEGIN:VCALENDAR
VERSION:2.0
PRODID:-//ZContent.net//ZapCalLib 1.0//EN
CALSCALE:GREGORIAN
METHOD:PUBLISH
BEGIN:VEVENT
SUMMARY:Trump 2.0   | Ein Blick auf die ersten 100 Tage seiner Amtszeit
DTSTART:20250429T190000
DTEND:20250429T203000
UID:2026-04-24-19-09-29-0-@calendar.boell.de
DTSTAMP:20260424T170929
DESCRIPTION:▶ Siehe Veranstaltungsbeschreibung – Stuttgart – Heinrich
  Böll Stiftung Baden-Württemberg
END:VEVENT
END:VCALENDAR
