BEGIN:VCALENDAR
VERSION:2.0
PRODID:-//ZContent.net//ZapCalLib 1.0//EN
CALSCALE:GREGORIAN
METHOD:PUBLISH
BEGIN:VEVENT
SUMMARY:Ostdeutschland im Wandel | East Germany in transition | Perspektive
 n von Menschen mit Migrationsbiografie | Migrant perspectives
DTSTART:20250521T180000
DTEND:20250521T203000
UID:2026-04-25-03-32-01-0-@calendar.boell.de
DTSTAMP:20260425T013201
DESCRIPTION:Saalfeld – Landesstiftung Thüringen
END:VEVENT
END:VCALENDAR
