BEGIN:VCALENDAR
VERSION:2.0
PRODID:-//ZContent.net//ZapCalLib 1.0//EN
CALSCALE:GREGORIAN
METHOD:PUBLISH
BEGIN:VEVENT
SUMMARY:Kriegsdienstverweigerung in der Türkei | Konsequenzen der Inanspru
 chnahme eines Menschenrechts
DTSTART:20250509T193000
DTEND:20250509T193000
UID:2026-04-24-12-26-59-0-@calendar.boell.de
DTSTAMP:20260424T102659
DESCRIPTION:Lindau – Petra-Kelly-Stiftung
END:VEVENT
END:VCALENDAR
