BEGIN:VCALENDAR
VERSION:2.0
PRODID:-//ZContent.net//ZapCalLib 1.0//EN
CALSCALE:GREGORIAN
METHOD:PUBLISH
BEGIN:VEVENT
SUMMARY:Viva Alemania - Ein Denkmal für die Migrationsgesellschaft? | Auss
 tellungseröffnung mit Diskussion & Austausch 
DTSTART:20250410T190000
DTEND:20250410T210000
UID:2026-04-25-13-27-32-0-@calendar.boell.de
DTSTAMP:20260425T112732
DESCRIPTION:▶ Siehe Veranstaltungsbeschreibung – Hamburg – Landesstif
 tung Hamburg
END:VEVENT
END:VCALENDAR
