BEGIN:VCALENDAR
VERSION:2.0
PRODID:-//ZContent.net//ZapCalLib 1.0//EN
CALSCALE:GREGORIAN
METHOD:PUBLISH
BEGIN:VEVENT
SUMMARY:Klimawandel, Energiewende und urbaner Wandel | Eine Exkursion zu MÃ
 ¶glichkeiten sozial-Ã¶kologischer Transformation in den StÃ¤dten
DTSTART:20250506T091100
DTEND:20250507T172400
UID:2026-04-23-22-29-19-0-@calendar.boell.de
DTSTAMP:20260423T202919
DESCRIPTION:Berlin â€“ Landesstiftung ThÃ¼ringen
END:VEVENT
END:VCALENDAR
