BEGIN:VCALENDAR
VERSION:2.0
PRODID:-//ZContent.net//ZapCalLib 1.0//EN
CALSCALE:GREGORIAN
METHOD:PUBLISH
BEGIN:VEVENT
SUMMARY:Von Asphalt und Oasen | Stadtspaziergang zu Umwelt und sozialer Ger
 echtigkeit
DTSTART:20250523T163000
DTEND:20250523T193000
UID:2026-04-24-08-46-04-0-@calendar.boell.de
DTSTAMP:20260424T064604
DESCRIPTION:Erfurt – Landesstiftung Thüringen
END:VEVENT
END:VCALENDAR
