BEGIN:VCALENDAR
VERSION:2.0
PRODID:-//ZContent.net//ZapCalLib 1.0//EN
CALSCALE:GREGORIAN
METHOD:PUBLISH
BEGIN:VEVENT
SUMMARY:Rassismus - Deportationsphantasien – Abschottung | Die Zukunft de
 r Migrationsgesellschaft in Deutschland 
DTSTART:20250321T183000
DTEND:20250321T210000
UID:2026-04-25-04-17-40-0-@calendar.boell.de
DTSTAMP:20260425T021740
DESCRIPTION:Heinrich-Böll-Stiftung - Bundesstiftung Berlin – Berlin – 
 Heinrich-Böll-Stiftung - Bundesstiftung Berlin
END:VEVENT
END:VCALENDAR
