BEGIN:VCALENDAR
VERSION:2.0
PRODID:-//ZContent.net//ZapCalLib 1.0//EN
CALSCALE:GREGORIAN
METHOD:PUBLISH
BEGIN:VEVENT
SUMMARY:Alles im Fluss!? - Wasser in der Krise | Ausstellung in Wenden (NRW
 )
DTSTART:20250414T180000
DTEND:20250509T170000
UID:2026-04-25-13-26-27-0-@calendar.boell.de
DTSTAMP:20260425T112627
DESCRIPTION:▶ Siehe Veranstaltungsbeschreibung – Externe Veranstaltung
END:VEVENT
END:VCALENDAR
