BEGIN:VCALENDAR
VERSION:2.0
PRODID:-//ZContent.net//ZapCalLib 1.0//EN
CALSCALE:GREGORIAN
METHOD:PUBLISH
BEGIN:VEVENT
SUMMARY:„Unser Land spie uns aus“: jüdischer Neuanfang in Rolândia  |
  Gudrun Fischer berichtet anhand von Zeitzeuginnen-Interviews von Flucht u
 nd Neuanfang in Südbrasilien 
DTSTART:20250403T170000
DTEND:20250403T190000
UID:2026-04-25-03-30-17-0-@calendar.boell.de
DTSTAMP:20260425T013017
DESCRIPTION:Bremen – Landesstiftung Bremen
END:VEVENT
END:VCALENDAR
