BEGIN:VCALENDAR
VERSION:2.0
PRODID:-//ZContent.net//ZapCalLib 1.0//EN
CALSCALE:GREGORIAN
METHOD:PUBLISH
BEGIN:VEVENT
SUMMARY:Über uns von uns | mit Rand Beiruty
DTSTART:20250515T191500
DTEND:20250515T214500
UID:2026-04-23-23-44-50-0-@calendar.boell.de
DTSTAMP:20260423T214450
DESCRIPTION:▶ Siehe Veranstaltungsbeschreibung – Falkensee – Landesst
 iftung Brandenburg
END:VEVENT
END:VCALENDAR
