BEGIN:VCALENDAR
VERSION:2.0
PRODID:-//ZContent.net//ZapCalLib 1.0//EN
CALSCALE:GREGORIAN
METHOD:PUBLISH
BEGIN:VEVENT
SUMMARY:Alles im Fluss!? - Wasser in der Krise | Ausstellung im Rahmen des 
 Dinkelsbühler Samenfests
DTSTART:20250309T100000
DTEND:20250309T170000
UID:2026-04-24-01-22-12-0-@calendar.boell.de
DTSTAMP:20260423T232212
DESCRIPTION:▶ Siehe Veranstaltungsbeschreibung – Heinrich Böll Stiftun
 g Baden-Württemberg
END:VEVENT
END:VCALENDAR
