BEGIN:VCALENDAR
VERSION:2.0
PRODID:-//ZContent.net//ZapCalLib 1.0//EN
CALSCALE:GREGORIAN
METHOD:PUBLISH
BEGIN:VEVENT
SUMMARY:Resistance Stories – Protest Diaries from Georgia
DTSTART:20250228T150000
DTEND:20250322T180000
UID:2026-04-24-21-12-48-0-@calendar.boell.de
DTSTAMP:20260424T191248
DESCRIPTION:Bremen – Landesstiftung Bremen
END:VEVENT
END:VCALENDAR
