BEGIN:VCALENDAR
VERSION:2.0
PRODID:-//ZContent.net//ZapCalLib 1.0//EN
CALSCALE:GREGORIAN
METHOD:PUBLISH
BEGIN:VEVENT
SUMMARY:Resistance Stories – Protest Diaries from Georgia | Eröffnung
DTSTART:20250228T150000
DTEND:20250228T170000
UID:2026-04-25-01-36-36-0-@calendar.boell.de
DTSTAMP:20260424T233636
DESCRIPTION:Bremen – Landesstiftung Bremen
END:VEVENT
END:VCALENDAR
