BEGIN:VCALENDAR
VERSION:2.0
PRODID:-//ZContent.net//ZapCalLib 1.0//EN
CALSCALE:GREGORIAN
METHOD:PUBLISH
BEGIN:VEVENT
SUMMARY:Wohin treibt Russland? | 26. Grüner Salon Krefeld: Lesung mit Jens
  Siegert
DTSTART:20250423T193000
DTEND:20250423T210000
UID:2026-04-23-20-24-41-0-@calendar.boell.de
DTSTAMP:20260423T182441
DESCRIPTION:▶ Siehe Veranstaltungsbeschreibung – Krefeld – Landesstif
 tung Nordrhein-Westfalen
END:VEVENT
END:VCALENDAR
