BEGIN:VCALENDAR
VERSION:2.0
PRODID:-//ZContent.net//ZapCalLib 1.0//EN
CALSCALE:GREGORIAN
METHOD:PUBLISH
BEGIN:VEVENT
SUMMARY:Essbare Stadt Dresden - zwischen Praxis und Vision | Podiumsdiskuss
 ion im Rahmen der Reihe "Wissen wächst"
DTSTART:20250402T193000
DTEND:20250402T210000
UID:2026-04-24-23-52-09-0-@calendar.boell.de
DTSTAMP:20260424T215209
DESCRIPTION:▶ Siehe Veranstaltungsbeschreibung – Dresden – Landesstif
 tung Sachsen (Weiterdenken)
END:VEVENT
END:VCALENDAR
