BEGIN:VCALENDAR
VERSION:2.0
PRODID:-//ZContent.net//ZapCalLib 1.0//EN
CALSCALE:GREGORIAN
METHOD:PUBLISH
BEGIN:VEVENT
SUMMARY: Da waren Tage  | Chancen und Herausforderungen im neuen Syrien
DTSTART:20250305T190000
DTEND:20250305T213000
UID:2026-04-24-07-02-13-0-@calendar.boell.de
DTSTAMP:20260424T050213
DESCRIPTION:Berlin – Heinrich-Böll-Stiftung - Bundesstiftung Berlin
END:VEVENT
END:VCALENDAR
