BEGIN:VCALENDAR
VERSION:2.0
PRODID:-//ZContent.net//ZapCalLib 1.0//EN
CALSCALE:GREGORIAN
METHOD:PUBLISH
BEGIN:VEVENT
SUMMARY:Queer Feminist Lit Space (Warteliste) | Lesekreis: Queer-Feminismus
  für Newbies! 
DTSTART:20250522T183000
DTEND:20250522T210000
UID:2026-04-25-13-08-19-0-@calendar.boell.de
DTSTAMP:20260425T110819
DESCRIPTION:▶ Siehe Veranstaltungsbeschreibung – Bremen – Landesstift
 ung Bremen
END:VEVENT
END:VCALENDAR
