BEGIN:VCALENDAR
VERSION:2.0
PRODID:-//ZContent.net//ZapCalLib 1.0//EN
CALSCALE:GREGORIAN
METHOD:PUBLISH
BEGIN:VEVENT
SUMMARY:Die Unbeugsamen 2 - Guten Morgen, Ihr Schönen! | Film und Gespräc
 h
DTSTART:20250225T173000
DTEND:20250225T200000
UID:2026-04-25-03-31-41-0-@calendar.boell.de
DTSTAMP:20260425T013141
DESCRIPTION:Dessau – Landesstiftung Sachsen-Anhalt
END:VEVENT
END:VCALENDAR
