BEGIN:VCALENDAR
VERSION:2.0
PRODID:-//ZContent.net//ZapCalLib 1.0//EN
CALSCALE:GREGORIAN
METHOD:PUBLISH
BEGIN:VEVENT
SUMMARY:Kursreihe: Neue Energie | Anwendung von Technik zur Nutzung von Win
 denergie
DTSTART:20250423T130915
DTEND:20250425T140915
UID:2026-04-23-19-51-39-0-@calendar.boell.de
DTSTAMP:20260423T175139
DESCRIPTION:Landesstiftung Thüringen
END:VEVENT
END:VCALENDAR
