BEGIN:VCALENDAR
VERSION:2.0
PRODID:-//ZContent.net//ZapCalLib 1.0//EN
CALSCALE:GREGORIAN
METHOD:PUBLISH
BEGIN:VEVENT
SUMMARY:Kursreihe: Neue Energie | Anwendung von Technik zur Nutzung der Bio
 energie
DTSTART:20250312T125312
DTEND:20250314T135312
UID:2026-04-23-08-38-21-0-@calendar.boell.de
DTSTAMP:20260423T063821
DESCRIPTION:Landesstiftung Thüringen
END:VEVENT
END:VCALENDAR
