BEGIN:VCALENDAR
VERSION:2.0
PRODID:-//ZContent.net//ZapCalLib 1.0//EN
CALSCALE:GREGORIAN
METHOD:PUBLISH
BEGIN:VEVENT
SUMMARY:Verkehrswende – wie geht das? Gemeinsam!
DTSTART:20250221T110000
DTEND:20250221T120000
UID:2026-04-25-01-09-48-0-@calendar.boell.de
DTSTAMP:20260424T230948
DESCRIPTION:▶ Online-Veranstaltung – Heinrich Böll Stiftung Baden-Wür
 ttemberg
END:VEVENT
END:VCALENDAR
